BEGIN:VCALENDAR
VERSION:2.0
PRODID:-//www.tojhuset.dk
METHOD:REQUEST
BEGIN:VEVENT
UID:6997
DTSTAMP:20260424T003700
DTSTART:20260919T120000
DTEND:20260919T120000
SUMMARY:Frokostjazz
DESCRIPTION:<p><strong>River Jazz &amp; Blues Band – en velrystet cocktail af jazz, blues og latin -  serveret med jysk lune!</strong></p>
<p> </p>
<p><strong>Riverband</strong> - har spillet på de danske  musikscener i 45 år - siden 1971 – og nærvær og engagement er stadig i højsædet hos dette originale og alsidige jazzorkester.</p>
<p> </p>
<p><strong>Riverband</strong>s repertoire består af velkendte temaer fra genrer som traditionel jazz, blues, swing, boogie og latin - samt egne numre. Flere af numrene er komponeret og arrangeret af orkestrets leder, Torben Lassen, og bandets saxofonist Filt Kristensen.</p>
<p> </p>
<p>Besætning:<br /> Torben Lassen trompet, mundharpe, guitar, bas, vokal</p>
<p>Allan Bjerregaard: trækbasun, percussion, vokal</p>
<p>Filt Kristensen: saxofon, clarinet, tværfløjte, vokal</p>
<p>Jørgen Nielsen: kontrabas, basguitar</p>
<p>Jens Nørholm: klaver</p>
<p>Tobias Leonardo Pedersen: tommer, vokal</p>
<p> </p>
<p> </p> Se mere på http://www.tojhuset.dk/
LOCATION:Gothersgade 34 & Øster Voldgade 16 Fredericia
END:VEVENT
END:VCALENDAR


