BEGIN:VCALENDAR
VERSION:2.0
PRODID:-//www.tojhuset.dk
METHOD:REQUEST
BEGIN:VEVENT
UID:7020
DTSTAMP:20260424T002500
DTSTART:20260905T120000
DTEND:20260905T120000
SUMMARY:Frokostjazz (1)
DESCRIPTION:<p>Polles New Orleans Jazzband er ikke et kopiband, men seks gamle originaler i deres bedste alder.</p>
<p> </p>
<p>Denne sekstet byder ind med et sprudlende humør på et stort repertoire af smittende New Orleans, Dixieland &amp; traditionel jazz krydret med lidt jazzificerede danske melodier.</p>
<p> </p>
<p>Bandet har deres hjerte i den glade fodvenlige traditionelle jazzmusik, hvilket giver sig udtryk i stor smittende spilleglæde. Tillige formår de, at få musikken langt ud over scenekanten.</p>
<p> </p>
<p>Orkestret er kendt fra fra mange sammenhænge bl.a. fra Riverboat Festivalen i Silkeborg. Dronningens fødselsdagsfest for den Kongelige  Livgarde i Rebild og mange mange flere.</p>
<p> </p>
<p>Bandet består af:</p>
<p>Poul Øxenholt: trompet, flygelhorn og vokal</p>
<p>Ole Sørensen: klarinet, altsax og vokal</p>
<p>Frank Pedersen: kontrabas, tuba og vokal</p>
<p>Per Dybdal: piano</p>
<p>Klaudiuz Horowic: trommer</p>
<p>Poul "Polle" Vejvad: trombone og vokal</p>
<p> </p>
<p> </p>
<p><span>Dørene åbnes kl. 11.00</span><br /><br /><span>Forvent dog at musikere og lydmand laver lydprøver indtil kl. 12.00</span><br /><br /><strong>Bestilling af mad</strong><br /><span>3 stk. frisksmurte håndmadder kan købes/bestilles senest kl. 12.00</span></p> Se mere på http://www.tojhuset.dk/
LOCATION:Gothersgade 34 & Øster Voldgade 16 Fredericia
END:VEVENT
END:VCALENDAR


