BEGIN:VCALENDAR
VERSION:2.0
PRODID:-//www.tojhuset.dk
METHOD:REQUEST
BEGIN:VEVENT
UID:7019
DTSTAMP:20260424T002500
DTSTART:20260903T200000
DTEND:20260903T200000
SUMMARY:Cecilie Strange
DESCRIPTION:<p>Cecilie Stranges album<span> </span><strong>BEECH</strong><span> </span>er sidste album i en tetralogi med hendes drømmemusikere: Peter Rosendal, Thommy Andersson og Jakob Høyer som fast besætning. Josefine Cronholm er gæstesolist på de to sidste: BEYOND &amp; BEECH. Resultatet er 4 sammenhængende værker: BLUE (2020), BLIKAN (2021), BEYOND (2023) og den kommede BEECH (2025).</p>
<p> </p>
<p>Albummet er udkommet 30. maj 2025 på April Records og i den anledning tager hun på tourne med hendes fantastiske hold.</p>
<p> </p>
<p>Udgivelsen BEECH har hendes personlige rødder som omdrejningspunkt. BEECH (Bøg) er symbolet på det smukke nordiske bøgetræ, som også i Danmark er ganske særlige når de springer ud. Et symbol på foråret. Derfor er albummet også udkommet på et af forårets sidste dage.</p>
<p> </p>
<p>Træet er derfor både et symbol på forår og på hendes danske og personlige rødder som har ført hende ud i verden med saxofonen på ryggen.</p>
<p>BEECH og afslutningen på tetralogien markerer hendes livs rejse indtil nu, 4 album der fortæller om hendes personlige rødder, tabet af hendes far, at finde kærligheden, moderskab, hyldester til hendes allernærmeste, rejser rundt i hele verden med en særlig tilknytningskraft til Norden, dedikationer til store inspirationskilder både i form af mennesker og vores allesammens kæmpe store, forunderlige og vidunderlige natur.</p>
<p> </p>
<p><strong>Line up:</strong></p>
<p>Cecilie Strange: saxofon</p>
<p>Peter Rosendal: piano</p>
<p>Thommy Andersson: bas</p>
<p>Jakob Høyer: trommer</p>
<p> </p>
<p>Alle kompositioner er skrevet af Cecilie Strange og improviseret frem af hendes drømmebesætning.</p> Se mere på http://www.tojhuset.dk/
LOCATION:Gothersgade 34 & Øster Voldgade 16 Fredericia
END:VEVENT
END:VCALENDAR


