BEGIN:VCALENDAR
VERSION:2.0
PRODID:-//www.tojhuset.dk
METHOD:REQUEST
BEGIN:VEVENT
UID:6734
DTSTAMP:20260424T020000
DTSTART:20260923T190000
DTEND:20260923T190000
SUMMARY:Ane Høgsberg - Ved Du Ikke Hvem Jeg Er?
DESCRIPTION:<p><strong>Ane Høgsberg, Ved du ikke hvem jeg er?</strong></p>
<p>Er hun mor? Er hun kæreste? Er hun nogens datter? Eller er hun bare hende, der altid glemmer sin egen fødselsdag, fordi hun har travlt med at huske alle andres?</p>
<p> </p>
<p>I sit nye standup, show <strong>Ved du ikke hvem jeg er? </strong>dykker Ane Høgsberg ned i den moderne identitetsforvirring, med hele sit komiske arsenal skarpt rettet mod forventninger, roller og den evige jagt på... ja, sig selv.</p>
<p> </p>
<p><strong>Ved du ikke hvem jeg er?</strong> er ikke bare en titel, det er et råb fra en kvinde, der har glemt sin egen emailkode, men kan alle sit barns venners navne udenad. Det er en aften med ærlige grin, gode jokes og genkendelige historier, tilsat en god dosis selvudlevering og følelsen af, at vi alle sammen er en lille smule lost.</p>
<p> </p>
<p><strong>Ane Høgsberg</strong> er tilbage, ærligere, sjovere og mere identitetskriseramt end nogensinde. Et show til dig, der har prøvet at google ?hvordan finder man sig selv og endte med at købe en airfryer i stedet.</p>
<p> </p>
<p><strong>Ved du ikke hvem jeg er?</strong> er standup, når det er allermest relaterbart, skarpt og latterfremkaldende. Kom og grin med, måske finder vi ud af, hvem vi er. Eller i det mindste bare hvem Ane er.</p> Se mere på http://www.tojhuset.dk/
LOCATION:Gothersgade 34 & Øster Voldgade 16 Fredericia
END:VEVENT
END:VCALENDAR


