BEGIN:VCALENDAR
VERSION:2.0
PRODID:-//www.tojhuset.dk
METHOD:REQUEST
BEGIN:VEVENT
UID:5078
DTSTAMP:20260424T022900
DTSTART:20220910T210000
DTEND:20220910T210000
SUMMARY:Kellermensch
DESCRIPTION:<p><strong>Kellermensch drager på omfattende albumturné.<br /> <br /> Det vestjyske livefænomen er for alvor opsteget fra kælderdybet med annoncering af det længeventede tredje album og tilhørende koncertdatoer.<br /> <br /> </strong>Den skæbnesvangre pandemitid, der har bestyrtet det meste af den danske musikbranche og dens aktører har, til trods, markeret, hvad der ligner en reel tilbagevenden til overfladen for det danske rock noir-band. <br /> <br /> I kølvandet på det lovpriste og hæderkronede comebackalbum, Goliath, der atter cementerede mørkemændene centralt som ledestjerner på den danske rockscene, er det, foruden tre singleudgivelser, blevet til et hav af udsolgte koncerter på landets største spillesteder og i de mindre byer. GAFFA har, ad flere omgange, ikke lagt fingre imellem, kvitteret med henholdsvis 5 og 6 stjerner og den utvetydige konklusion: ”magtdemonstration”.</p>
<p><br /> Med deres unikke kombination af trædeorgel, violiner, forvrængede guitarer, dundrende trommer og tordenbrøl har sekstetten de seneste år genopvakt rockmusikken og på scenen udviklet sig fra kompromisløst, larmende rockband i den esbjergensiske undergrund til internationalt koncertfænomen, der bevæger sit publikum med smukke, intense, smertefulde og voldsomme liveoptrædener af dramaturgiske dimensioner. Dette har ført dem til Europas største scener herunder Rock Am Ring, Rock Im Park, Wacken og herhjemme alt fra Roskilde Festivals Orange Scene til Copenhell og Tønder Festival.</p>
<p><br /> Når koncertfænomenet nu igen drager afsted mod festivaler og landets spillesteder, er det med det længeventede tredje album under vingerne, hvorfra de tre singleforløbere ”Nothing”, ”Mission” og ”Another Drink” sammen med den opsigtvækkende albumtitel, <strong><em>Capitulism</em></strong>, (27/05/22) unægteligt peger i retning af en skelsættende albumudgivelse.</p> Se mere på http://www.tojhuset.dk/
LOCATION:Gothersgade 34 & Øster Voldgade 16 Fredericia
END:VEVENT
END:VCALENDAR


