BEGIN:VCALENDAR
VERSION:2.0
PRODID:-//www.tojhuset.dk
METHOD:REQUEST
BEGIN:VEVENT
UID:6813
DTSTAMP:20260424T015400
DTSTART:20261009T193000
DTEND:20261009T193000
SUMMARY:Specialklassen
DESCRIPTION:<p><strong>SPECIALKLASSEN - </strong><strong><em>ER DET FOR MEGET?<br /><br /><a href="https://tojhuset.billetten.dk/index/eventdetails/eventno/140503">TILMELD DIG VENTELISTE</a></em></strong></p>
<p> </p>
<p>I en tid hvor verdensfreden synes at være mere ustabil end en dansk tarm efter karry. I et land hvor ulve og andre kriminelle bander truer styrken i aftenkaffen og sprødheden af morgenbrødet. Og i en verden hvor kønsflydende aktivister med blåt hår generer voksne mænd i lykra med åreknuder - der må man spørge sig selv:</p>
<p> </p>
<p>Er det for meget?</p>
<p>Kan vi snart holde til flere ting, der går over vores grænser, og hvem i hede hule<br /> h#%&amp;€ har sat prisen på kærnemælk op med 30 procent?!<br /> <br /> Og som om alt dette ikke var nok, så kommer Specialklassen igen på en stor comedy tour rundt i landet!<br /> <br /> I snart 20 år har de improviserende komikere Kasper Gattrup, Kasper Le Fevre og Rasmus Søndergaard været leveringsdygtige i helt og aldeles uforberedte shows, hvor publikum, udover at have betalt for billetten, også har måttet fodre de tre midaldrende mænd med inputs og forslag til deres vanvittige scener, sange og sketches, som hver aften fødes for første gang på scenen.</p>
<p><br /> Og nu gør de altså igen med showet <strong>Er Det For Meget?</strong></p> Se mere på http://www.tojhuset.dk/
LOCATION:Gothersgade 34 & Øster Voldgade 16 Fredericia
END:VEVENT
END:VCALENDAR


