BEGIN:VCALENDAR
VERSION:2.0
PRODID:-//www.tojhuset.dk
METHOD:REQUEST
BEGIN:VEVENT
UID:7009
DTSTAMP:20260424T002500
DTSTART:20261003T120000
DTEND:20261003T120000
SUMMARY:Frokostjazz
DESCRIPTION:<p>Bottos Jazz Band er et velspillende Jazzband, som tog sin start i nullerne, repertoiret blev større og større – men først i 2010 gik bandet på scenen for første gang, og begejstrede deres publikum.</p>
<p> </p>
<p>Det der kendetegner orkesteret er en dynamisk spillestil, med et repertoire der spænder fra Traditionel jazz, New Orleans, Swing og Dixie, alt sammen under den kategori man kalder ”<strong>Happy Jazz</strong>”.</p>
<p> </p>
<p>Bottos Jazz Band har gjort sig kendt, som et fantastisk live band hvilket må skyldes den enorme glæde og intensitet de spiller og møder publikum med.</p>
<p> </p>
<p>Bottos Jazz Band, syv mands besætning, spiller op med de bedste retter fra Jazz-kogebogen, består af:</p>
<p>Erling Jakobsen – Trombone + Vokal</p>
<p>Torben Muller – Trompet + Vokal</p>
<p>Charles Nielsen – Klarinet + Vokal</p>
<p>Gert Elze – Tenorbanjo</p>
<p>Kjeld Petersen – Kontrabas</p>
<p>Poul Erik Waltz – Trommer</p>
<p>Peter Bottos – Piano</p>
<p> </p> Se mere på http://www.tojhuset.dk/
LOCATION:Gothersgade 34 & Øster Voldgade 16 Fredericia
END:VEVENT
END:VCALENDAR


