BEGIN:VCALENDAR
VERSION:2.0
PRODID:-//www.tojhuset.dk
METHOD:REQUEST
BEGIN:VEVENT
UID:7012
DTSTAMP:20260424T003200
DTSTART:20261031T120000
DTEND:20261031T120000
SUMMARY:Frokostjazz (2)
DESCRIPTION:<p><strong>Riis/Elkjer Hammond Kvartet ft. Jesper Riis</strong> </p>
<p> </p>
<p>Til denne koncert præsenteres publikum for en jazzkvartet, der forener generationer i kærligheden til jazzen. Kvartetten består af tre unge, fremadstormende jazzmusikere samt den anerkendte trompetist og arrangør Jesper Riis.<br /> <br /> Repertoiret tager udgangspunkt i udvalgte jazzstandarder og sange, musikerne holder særligt af – Musikken bevæger sig fra det swingende og groovy til det melodiske og intime, og fælles for det hele er lysten til at skabe en koncertoplevelse, hvor publikum føler sig inkluderet og i øjenhøjde med musikken.<br /> Kvartetten lægger stor vægt på sammenspil, spontanitet og den særlige stemning, der opstår, når jazzens frihed får lov at udfolde sig live.</p>
<p> </p>
<p>Mads Riis - guitar</p>
<p>Christian Elkjer - hammond orgel</p>
<p>Gustav Hagelskjær - trommer</p>
<p>Jesper Riis - trompet</p>
<p> </p>
<p> </p>
<p><span>Dørene åbnes kl. 11.00</span><br /><br /><span>Forvent dog at musikere og lydmand laver lydprøver indtil kl. 12.00</span><br /><br /><strong>Bestilling af mad</strong><br /><span>3 stk. frisksmurte håndmadder kan købes/bestilles senest kl. 12.00</span></p> Se mere på http://www.tojhuset.dk/
LOCATION:Gothersgade 34 & Øster Voldgade 16 Fredericia
END:VEVENT
END:VCALENDAR


