BEGIN:VCALENDAR
VERSION:2.0
PRODID:-//www.tojhuset.dk
METHOD:REQUEST
BEGIN:VEVENT
UID:7011
DTSTAMP:20260424T003800
DTSTART:20261017T120000
DTEND:20261017T120000
SUMMARY:Frokostjazz (1)
DESCRIPTION:<p>Enrico Tomasso &amp; Finn Burich International New Orleans Jazzband er et internationalt sammensat band med musikere fra fem forskellige lande.</p>
<p><br /> Med koncerttemaet <strong>“A Tribute to Louis Armstrong”</strong> giver vi tilhørerne mulighed for at høre den førende fortolker af Louis Armstrong i Europa og 6 gange British Jazz Awards-vinder for “Best trumpet category”.</p>
<p> </p>
<p>Kom til en koncert med denne spændende solist og en line-up med europæiske topmusikere.</p>
<p> </p>
<p>Bandbesætning:</p>
<p>Enrico Tomassao trompet, vocal (GB)</p>
<p>Thomas l´Etienne clarinet, tenorsax, vocal(D)</p>
<p> </p>
<p>Finn Burich trombone, vocal</p>
<p>Harry Kanters piano (NL)</p>
<p>Jens Kristian Andersen bas</p>
<p>Frederik Van den Berghe drums (B)</p>
<p> </p>
<p> </p>
<p><span>Dørene åbnes kl. 11.00</span><br /><br /><span>Forvent dog at musikere og lydmand laver lydprøver indtil kl. 12.00</span><br /><br /><strong>Bestilling af mad</strong><br /><span>3 stk. frisksmurte håndmadder kan købes/bestilles senest kl. 12.00</span></p> Se mere på http://www.tojhuset.dk/
LOCATION:Gothersgade 34 & Øster Voldgade 16 Fredericia
END:VEVENT
END:VCALENDAR


