BEGIN:VCALENDAR
VERSION:2.0
PRODID:-//www.tojhuset.dk
METHOD:REQUEST
BEGIN:VEVENT
UID:6994
DTSTAMP:20260424T004000
DTSTART:20261002T150000
DTEND:20261002T150000
SUMMARY:FredagsJAM - Nadine Jeanne
DESCRIPTION:<div>
<div><strong>FredagsJAM - Nadine Jeanne</strong></div>
<div> </div>
<div>Kom til fredagsJAM og nyd en fyraftensøl med dejlig live musik i caféen i selskab med Nadine Jeanne.<br /><br />Singer-songwriteren Nadine Jeanne er aktuel med udgivelsen <br />"Human Tracks". Et album inspireret af jazzens og soulens mange traditioner og med familierødder, der strækker sig tilbage til Tahiti og Madagaskar, er Nadine Jeannes rejsende sange en hyldest til en stadigt foranderlig, sjælfuld menneskelighed. Til koncerten i dag får hun selskab af den middelhavsinspirerede folkemusiker Aronne Dell’Oro fra Italien.<br /><br />I 2021 var Nadine Jeannes komposition “Earth Tell My Eager Hands" en af vinderne i Beyond Music-konkurrencen og blev udgivet på albummet "Same Planet", produceret af Manu Katché.<br /><br />Line-up:<br />Nadine Jeanne - vokal, klaver, kalimba og ukulele bas<br />Aronne Dell’Oro - akustisk guitar, percussion og vokal<br /><br />Nadine Jeanne åbner fredagsJAM med en koncert og herefter er scenen åben for alle med noget på hjerte. Så grib dit instrument og kom og skab nye musikalske forbindelser.<br /><br />På scenen forefindes flygel, trommesæt, guitar- og basforstærker samt mikrofoner.<br /><br />Dørene åbner: 14:00<br />Koncertstart: 15:00<br /><br />Arrangør: FREDERICIA LIVE<br /><span>Støttet af Musikaftenskolen Lillebælt, Spar Nord Fonden, Nordea-fonden og EWII.</span></div>
</div>
<p> </p> Se mere på http://www.tojhuset.dk/
LOCATION:Gothersgade 34 & Øster Voldgade 16 Fredericia
END:VEVENT
END:VCALENDAR


