BEGIN:VCALENDAR
VERSION:2.0
PRODID:-//www.tojhuset.dk
METHOD:REQUEST
BEGIN:VEVENT
UID:7084
DTSTAMP:20260420T133000
DTSTART:20261031T200000
DTEND:20261031T200000
SUMMARY:Augusta Schackinger
DESCRIPTION:<p>Den 20-årige odenseanske sanger og sangskriver Augusta Schackinger skriver tekster, som stræber efter mere end blot at skildre livets op-og nedture. For hende handler det om at skabe billeder med ord - billeder, der domsdramaserie “Grænser” og har i dag over 1 million afspilninger på Spotify.</p>
<p> </p>
<p>Siden har Augusta udgivet en række singler, før hun i 2024 indledte et samarbejde med Sony Music. Her udgav hun sidste år singlerne“Et Sted På Vesterbro”og“Febersol”og ikke mindst det regulære streaming-hit “Ødelagt Byen” med artist-kollegaen Olivver - en sang der ryddede Spotify-charten og blev sensommerens hit.</p>
<p> </p>
<p>Augusta er nu aktuel med singlen“Anerkender Mig”, en eftertænksom sang der skildrer en ærlig erkendelse af, og ikke mindst en godt fyldt koncert kalender, som nu udvides betragteligt med19 nye datoer i efteråret 2026</p> Se mere på http://www.tojhuset.dk/
LOCATION:Gothersgade 34 & Øster Voldgade 16 Fredericia
END:VEVENT
END:VCALENDAR


