BEGIN:VCALENDAR
VERSION:2.0
PRODID:-//www.tojhuset.dk
METHOD:REQUEST
BEGIN:VEVENT
UID:7078
DTSTAMP:20260424T002400
DTSTART:20261010T200000
DTEND:20261010T200000
SUMMARY:Absurd
DESCRIPTION:<p><strong>ABSURD annoncerer deres første Danmarksturné i efteråret 2026–en debutalbum-turné på tværs af landet</strong></p>
<p> </p>
<p>Med gennembrudssinglen “Anna” har ABSURD markeret sig som et band, der samler publikum. Sangen er blevet bandets signatur og et naturligtomdrejningspunkt for den debutalbumturné, der i efteråret 2026 bringer ABSURD rundt i hele landet med mere end 20 koncerter.</p>
<p> </p>
<p>Sammen med hittet “Danser Alene” har “Anna” været med til at definere ABSURDs udtryk: melodisk, umiddelbart og skrevet med blik for både danselyst og eftertænksomhed. Det er sange, der fungerer i høretelefonerne-og som for alvorfinder deres form live.</p>
<p> </p>
<p>ABSURD har opbygget en markant følgerskare på TikTok og Instagram, men bandets fundament er det levende sammenspil. Live fremstår Absurd som et energisk og velspillende band med tydelig kontakt til publikum og et overskud, der løfter sangene i rummet.</p>
<p> </p>
<p>I 2025 modtog ABSURD Tak Rock’s Talentpris på Smukfest, en anerkendelse af bandets stærke liveformat. Prisen, som sætter ABSURD i selskab med tidligere vindere som Annika og Kedde, peger på et band, der allerede nu har bevist sit værd på scenen og som fortsætter med at udvikle sig.</p>
<p> </p>
<p>Efterårets turné bliver ABSURDs hidtil største satsning og præsenterer både kendte numre og nyt materiale fra debutalbummet i et format, der er skabt til spillesteder og koncertsale over hele landet.</p>
<p> </p>
<p>“Et utroligt velspillende band med tydeligt overskud og naturlig charme. Sangene vækker lysten til at smile, danse og være i nuet.”<br />Sådan lød de rosende ord fra juryen ved prisoverrækkelsen på Smukfest LiveCamp, da bandet vandt prisen som årets Tak Rock Talent.</p> Se mere på http://www.tojhuset.dk/
LOCATION:Gothersgade 34 & Øster Voldgade 16 Fredericia
END:VEVENT
END:VCALENDAR


