BEGIN:VCALENDAR
VERSION:2.0
PRODID:-//www.tojhuset.dk
METHOD:REQUEST
BEGIN:VEVENT
UID:6468
DTSTAMP:20260420T151300
DTSTART:20251022T190000
DTEND:20251022T190000
SUMMARY:Jan Hellesøe - EKSTRA
DESCRIPTION:<p>TIL EFTERÅRET 2025 KAN PUBLIKUM GLÆDE SIG TIL EN HELT NV OG FASCINERENDE OPLEVELSE, NÅR MENTALIST OG HYPNOTISØR JAN HELLESØE TURNERER LANDET RUNDT MED SIT NYESTE SHOW, UMULIGHEDER.</p>
<p> </p>
<p>DETTE BLIVER JAN HELLESØES FEMTE STORE TURNE, OG TIDLIERE SHOWS SOM MANIPULATOR, FORFØRT, FORUDSIGELSER OG ET FOREDRAG HAR ALLE VÆRET ENORME SUCCESER. JAN HELLESØE HAR GENNEM DE SIDSTE ÅR MARKERET SIG SOM EN AF LANDETS MEST POPULÆRE ENTERTAINERE MED SINE UNIKKE EVNER TIL AT FORBLØFFE OG FASCINERE.</p>
<p> </p>
<p>PÅ TV-FRONTEN HAR JAN HELLESØE VÆRET HØJAKTUEL MED EN RÆKKE POPULÆRE PROGRAMMER, OG SENEST HAR HELE DANMARK FULGT MED, DA HAN IGEN LEVEREDE FANTASTISKE ØJEBLIKKE I I HJERNEN PÅ STJERNEN. ANDRE VELKENDTE PROGRAMMER INKLUDERER FUCKR MED DN HJRNE, DET PERFEKTE KUP, HYPNODATING OG MANIPULATOR.</p>
<p> </p>
<p>MED SIT NYE SHOW, UMULIGHEDER, LOVER JAN HELLESØE ENDNU EN GANG AT UDFORDRE PUBLIKUMS OPFATTELSE AF, HVAD DER ER MULIGT. SHOWET VIL INDEHOLDE EN BLANDING AF HYPNOTISKE EKSPERI­ MENTER OG MENTAL MANIPULATION, SOM VIL EFTERLADE PUBLIKUM MÅLLØSE OG UNDERHOLDT FRA START TIL SLUT.</p>
<p> </p>
<p>JAN HELLESØE UDTALER SELV OM DET KOMMENDE SHOW: "DET VIGTIGSTE FOR MIG VED DET HER SHOW ER, AT FOLK GÅR DERFRA OG HAR VÆRET GODT UNDERHOLDT. JEG ØNSKER KUN AT GIVE PUBLIKUM EN UFORGLEMMELIG AFTEN, HVOR DE BÅDE BLIVER OVERRASKET OG FASCINERET."</p>
<p> </p>
<p>GØR DIG KLAR TIL EN AFTEN FYLDT MED UMULIGHEDER, HVOR GRÆNSERNE FOR VIRKELIGHED OG FAN­ TASI BLIVER UDFORDRET PÅ NY MED HELE DANMARKS SHOWMAN OG PSYKOLOGISKE MANIPULATOR.</p> Se mere på http://www.tojhuset.dk/
LOCATION:Gothersgade 34 & Øster Voldgade 16 Fredericia
END:VEVENT
END:VCALENDAR


