BEGIN:VCALENDAR
VERSION:2.0
PRODID:-//www.tojhuset.dk
METHOD:REQUEST
BEGIN:VEVENT
UID:7013
DTSTAMP:20260424T002400
DTSTART:20261114T120000
DTEND:20261114T120000
SUMMARY:Frokostjazz
DESCRIPTION:<p>Orgeljazz fra øverste hylde. Med en lyd dybt forankret i New Orleans-traditionen leverer Orgelstars en energifyldt cocktail af swingende jazz, second line-grooves, svedig funk og soul-dryppende spirituals – alt sammen serveret med stor spilleglæde og musikalitet.</p>
<p> </p>
<p>Forestil dig lyden fra sumpene i Louisiana. Den varme, levende puls fra French Quarter. Grease, gumbo og Spanish moss i ét og samme åndedrag. Det er her, Orgelstars henter deres inspiration – og det mærkes. Deres musik får dig til at smile, bevæge fødderne og måske endda blive hængende lidt længere, end du havde planlagt.</p>
<p> </p>
<p>Med Martin Schack på orgel, Stefan Ringive på basun, Jesper Riis på trompet, Jakob Pedersen på guitar og vokal og Søren Pedersen bag trommerne, skaber bandet en både rå og raffineret lyd, hvor hvert medlem bringer deres eget særpræg og musikalitet ind i det kollektive groove.</p>
<p> </p>
<p>Orgelstars er ikke bare et band – det er en stemning, en fest og en musikalsk rejse direkte ned til New Orleans.</p>
<p> </p>
<p>Line up:<br /> Martin Schack, orgel<br /> Stefan Ringive basun<br /> Jesper Riis trompet<br /> Jakob Pedersen guitar og vokal<br /> Søren Pedersen trommerne</p>
<p> </p>
<p> </p>
<p><span>Dørene åbnes kl. 11.00</span><br /><br /><span>Forvent dog at musikere og lydmand laver lydprøver indtil kl. 12.00</span><br /><br /><strong>Bestilling af mad</strong><br /><span>3 stk. frisksmurte håndmadder kan købes/bestilles senest kl. 12.00</span></p> Se mere på http://www.tojhuset.dk/
LOCATION:Gothersgade 34 & Øster Voldgade 16 Fredericia
END:VEVENT
END:VCALENDAR


