BEGIN:VCALENDAR
VERSION:2.0
PRODID:-//www.tojhuset.dk
METHOD:REQUEST
BEGIN:VEVENT
UID:6929
DTSTAMP:20260424T003700
DTSTART:20261128T200000
DTEND:20261128T200000
SUMMARY:Allan Olsen & det sidste slæng
DESCRIPTION:<p> </p>
<p><strong>Nyt band, ny form, ny turné.</strong></p>
<div class="page">
<div class="section">
<div class="layoutArea">
<div class="column">
<p> </p>
<p><span>Næste år lancerer Allan Olsen sit nye band-projekt, “Allan Olsen &amp; Det Sidste Slæng”.</span></p>
<p> </p>
<p><strong>Og hvad er så et “slæng”? </strong></p>
<p><span>Allan Olsen: </span><span>“Når vi dukkede op ved køkkendøren, mig og et par kam’sjukker, sagde min mor: - Nåe, kommer du nu dér med hele dit slæng? “. Og i selve ordet, “slæng” lå hendes erfaring: - Om lidt er køleskabet rippet, tæpperne svinet til af ørkenstøvler og højrøstet roderi. Sådan som man kunne forvente sig, når “Allan og hele hans slæng” kom forbi...”</span></p>
<p> </p>
<p><span>Et slæng er en flok sammensvorne, en samlet flok i gensidig tillid og med en fælles skæbne. Gerne i rastløs bevægelse mod et noget løst defineret fælles mål.</span></p>
<p> </p>
<p><span>Og sammen med et orkester føler Allan Olsen sig netop som en del af et rigtigt slæng. Som f.eks. den seneste succesfulde “Rygter Fra Randområderne” turné, med bandet Norlan.</span></p>
<p> </p>
<p><span>Slænget som Allan nu har samlet sig, borger for både tømte køleskabe og en del højrøstet roderi og skæg. Men først og fremmest for en stor musikalsk tyngde:</span></p>
<p> </p>
<p><span>Jesper Haugaard </span><span>– Bas / kontrabas<br /> </span><span>Mads Andersen </span><span>– Trommer<br /> </span><span>Rune Kjeldsen </span><span>– Guitar<br /> </span><span>Anders Pedersen </span><span>– Guitar / lap steel / mandolin </span><span>Dan Hemmer </span><span>– Orgel / keyboards</span></p>
<p> </p>
<p><span>Det kan kun blive godt...</span></p>
<p> </p>
<div class="page">
<div class="section">
<div class="layoutArea">
<div class="column">
<p><strong>Men hvorfor nu Det Sidste Slæng?</strong></p>
<p>“Realistisk set tror jeg, kalenderen går mere imod det simple og enkle – det helt lille solo-slæng, end mod de store spæjt og narrestreger med 10 mand på landevejen. - Så ja, dette kunne godt blive min sidste band-turné. Men man ved aldrig...”</p>
<p> </p>
<p><strong>Vil man stå eller sidde?</strong></p>
<p>Olsens alsidige sangskat tiltrækker nemlig et mangfoldigt publikum. Lige fra de sprælske ungharer til sølvrævenes mere lyttende tilstedeværelse. Og for den garvede trubadur er netop dette centralt:</p>
<p> </p>
<p><span>Allan Olsen: </span><span>“For mig er et sådant broget publikum det største privilegium, man kan ønske sig i showbizz.”</span></p>
<p> </p>
<p><span>Spredningen i Allan Olsens fanskare indebærer dog en udfordring: For hvad foretrækker publikum – at stå op eller at sidde ned?</span></p>
<p> </p>
<p><span>På denne turne tager vi udfordringen op med såvel stående som siddende koncerter. Og i tre store byer – Aalborg, Aarhus og København - endda begge dele. </span></p>
<p> </p>
<p><span>Så kan man selv vælge den Allan Olsen-live-form, der passer én bedst. – Eller rive sig, og opleve begge dele...</span></p>
<p> </p>
<p><span>Repertoiret på efterårsturneen med Allan Olsen &amp; Det Sidste Slæng vil naturligvis bestå af elskede Olsen-klassikere, nyere sange, samt et bredt udsnit af perlerne fra sangsmedens store bagkatalog.</span></p>
<p> </p>
</div>
</div>
</div>
</div>
</div>
</div>
</div>
</div>
<div class="page">
<div class="section">
<div class="layoutArea">
<div class="column">
<p> </p>
</div>
</div>
<div class="layoutArea">
<div class="column"></div>
</div>
</div>
</div> Se mere på http://www.tojhuset.dk/
LOCATION:Gothersgade 34 & Øster Voldgade 16 Fredericia
END:VEVENT
END:VCALENDAR


