BEGIN:VCALENDAR
VERSION:2.0
PRODID:-//www.tojhuset.dk
METHOD:REQUEST
BEGIN:VEVENT
UID:6715
DTSTAMP:20260425T181300
DTSTART:20251114T150000
DTEND:20251114T150000
SUMMARY:FredagsJAM - Karin Linn og Kasper Hollesen
DESCRIPTION:<div><strong>FredagsJAM - Karin Linn og Kasper Hollesen</strong></div>
<div>Kom til fredagsJAM og nyd en fyraftensøl med dejlig live musik i caféen i selskab med Karin Linn og Kasper Hollesen.</div>
<div><br />Karin Linn og Kasper Hollesen er en duo, der spiller et udpluk af jazztraditionens skønne og velkendte klassikere. Når dansk/amerikanske Karin Linn dykker ned i sine rødder er det med en vokal, der spænder bredt fra dybe, fløjsbløde toner til lyse højder leveret med en følelse for både power og finesse. På guitar akkompagneres hun af den talentfulde Kasper Hollesen, der ligeledes dyrker den amerikanske jazztradition med stor inspiration fra musikere som Joe Pass, George Benson og Pat Martino. Sammen spiller de swing tunes og ballader, der oser af jazz, blues og soul.<br /><br />Karin Linn og Kasper Hollesen åbner fredagsJAM med en koncert og herefter er scenen åben for alle med noget på hjerte. Så grib dit instrument og kom og skab nye musikalske forbindelser.<br /><br />På scenen forefindes flygel, trommesæt, guitar- og basforstærker samt mikrofoner.<br /><br />Dørene åbner: 14:00<br />Koncertstart: 15:00<br /><br />Arrangør: FREDERICIA LIVE<br />Støttet af EWII, Middelfart Sparekasse og Musikaftenskolen Lillebælt.</div> Se mere på http://www.tojhuset.dk/
LOCATION:Gothersgade 34 & Øster Voldgade 16 Fredericia
END:VEVENT
END:VCALENDAR


