BEGIN:VCALENDAR
VERSION:2.0
PRODID:-//www.tojhuset.dk
METHOD:REQUEST
BEGIN:VEVENT
UID:6595
DTSTAMP:20260421T192600
DTSTART:20260314T200000
DTEND:20260314T200000
SUMMARY:Olesen-Olesen
DESCRIPTION:<p><strong>Olesen-Olesen Reunion foråret 2026</strong><br />Olesen-Olesen – brødrene Henrik Olesen (guitarist og komponist) og Peter H. Olesen (sanger og tekstforfatter udsendte syv album (dengang cd'er) i perioden 1997 og 2007. Og havde pæn succes, Især hos anmelderne og et mindre, men meget trofast publikum.</p>
<p>Olesen-Olesen fik dog også, især i begyndelsen, en del airplay på P3 (det var dengang) med flere af deres sange udvalgt som 'Ugens uundgåelige'. Og så havde og har brødreparret også en del 'fans' blandt andre musikere, såsom Niels Skousen, Peter Sommer, Sune Wagner m.fl.<br /><br />Olesen-Olesen har ikke spillet offentligt i 20 år, og selvom duoen gennem årene har fået mange håbefulde og mere eller mindre seriøse forespørgsler, har de altid konsekvent takket pænt nej. Nu har de imidlertid besluttet at sige ja. Og ideen er at spille udvalgte( koncerter på landets store og halvstore klubscener i foråret 2026.<br /> <br /><br /> <strong>Line-up</strong><br /> Peter H. Olesen, sang<br /> Henrik Olesen, guitar<br /> Michael Lund, guitar &amp; lapsteel <br /> Jakob Høyer, trommer<br /> Nils Bo Davidsen, bas &amp; cello <br /> Sune Wagner, guitar</p> Se mere på http://www.tojhuset.dk/
LOCATION:Gothersgade 34 & Øster Voldgade 16 Fredericia
END:VEVENT
END:VCALENDAR


