BEGIN:VCALENDAR
VERSION:2.0
PRODID:-//www.tojhuset.dk
METHOD:REQUEST
BEGIN:VEVENT
UID:2939
DTSTAMP:20260424T220100
DTSTART:20180330T210000
DTEND:20180330T210000
SUMMARY:Baba & The Tonebones
DESCRIPTION:<p>Baba &amp; The Tonebones har sat et nyt hold sammen, som består af 5 velspillende musikere. De 5 rutinerede musikere har nu fundet sammen om at spille smagfuld og funky soul-blues. Klaus B Jensen har skrevet en stor del af materialet selv med inspiration hentet fra de store blues legender i USA. Det er autentisk blues, som du ville høre det i Mississippi deltaet, Louisiana og New Orleans.</p>
<p> </p>
<p> </p>
<p>Bandet består af Claus Bjerregaard (Trommer) Jens Møller (Orgel) Toke Lynggaard (Guitar) Emil Mathiasen (Bas) Klaus B Jensen (Guitar/sang)</p> Se mere på http://www.tojhuset.dk/
LOCATION:Gothersgade 34 & Øster Voldgade 16 Fredericia
END:VEVENT
END:VCALENDAR


