BEGIN:VCALENDAR
VERSION:2.0
PRODID:-//www.tojhuset.dk
METHOD:REQUEST
BEGIN:VEVENT
UID:7172
DTSTAMP:20260424T002200
DTSTART:20260505T140000
DTEND:20260505T140000
SUMMARY:Musicaluddannelsens Eksamenskoncert 2026
DESCRIPTION:<p class="manchet"><span>7 tredjeårsstuderende fra Den Danske Scenekunstskole Musicalakademiet Fredericia afholder eksamenskoncerter den 5. maj 2026 i Tøjhuset i Fredericia.</span><br /><br />Hver studerende starter med en eksamensdel på ca. 20 minutter efterfulgt af en voteringsdel på ca. 25 minutter. Dørene holdes lukkede under eksamensdelen.<br /><br /></p>
<h2>Program</h2>
<ul>
<li>Kl. 13:30: Dørene til salen åbnes<br /> </li>
<li>Kl. 14:00 – 14:45: Sophia Bircow</li>
<li>Kl. 14:45 – 15:30: Amanda Frederikke Traun</li>
<li>Kl. 15:30 – 16:15: Markus Planck</li>
<li>Kl. 16:15 – 17:00: Isabel Brogaard Pedersen<br /> </li>
<li>Kl. 17:00 – 17:15: PAUSE<br /> </li>
<li>Kl. 17:15 – 18:00: Kirstine Rützou Rosenkilde</li>
<li>Kl. 18:00 – 18:45: Mathilde Korsholm Svarrer</li>
<li>Kl. 18:45 – 19:30: Hannibal Koch</li>
</ul>
<p class="manchet">Billetter er gratis, og det er muligt at booke billetter til alle koncerterne.</p> Se mere på http://www.tojhuset.dk/
LOCATION:Gothersgade 34 & Øster Voldgade 16 Fredericia
END:VEVENT
END:VCALENDAR


