BEGIN:VCALENDAR
VERSION:2.0
PRODID:-//www.tojhuset.dk
METHOD:REQUEST
BEGIN:VEVENT
UID:6911
DTSTAMP:20260424T050500
DTSTART:20260504T190000
DTEND:20260504T190000
SUMMARY:Jørgen Skouboe - Utæmmet af natur
DESCRIPTION:<p><strong>UTÆMMET AF NATUR </strong><br /> <em>– En vild aften med Jørgen Skouboe </em><br /> <br /> <strong><em>Gå på rov i fortællingen om et naturmenneske ud over det sædvanlige. I sit nye foredrag ser TV-vært, jæger, naturelsker og opfinder Jørgen Skouboe tilbage på sin autodidakte vej gennem livet. Mød manden, der skød, byggede og pileflettede sig ind i de danske hjerter og med sin utæmmede natur blev et fænomen langt ud over det, du så på skærmen. </em></strong></p>
<p>Oplev den populære tv-vært, Jørgen Skouboe, der nu for første gang fortæller hele sin historie i samtale med journalist og forfatter Dorthe Løwendahl Bomann. Hvem er den kreative idémand og naturelsker, som gennem et halvt århundrede har skabt programsucceser på stribe? Har årene i regn, sol, muld og skov gjort ham til den, han er? Eller har han altid været utæmmet af natur?<br /> <br /> Glæd dig til en personlig fortælling fyldt med anekdoter fra bag kameraerne på de folkekære tv-programmer <strong><em>Dus med dyrene</em></strong><em>, <strong>Det derude</strong>, <strong>Ude i Naturen</strong>, <strong>Frilandshaven</strong>, <strong>Mens vi venter på at dø</strong>, <strong>To fag frem</strong> og</em> <strong><em>Nak og æd</em></strong><em>.</em><br /> <br /> På denne inspirerende aften ser Skouboe tilbage på sin autodidakte vej gennem livet og giver sit erfarne bud på, hvordan man får det meste ud af tilværelsen. Også selvom man i stedet for en uddannelse er væbnet med gåpåmod, nysgerrighed og skabertrang.</p>
<p> </p>
<p>UTÆMMET AF NATUR er Jørgen Skouboes beretning om at være en uregerlig og usædvanlig mand. Og ikke om mindst hvordan den indre vildskab har banet vejen for et liv med utallige store oplevelser, stærke bekendtskaber og mageløse måltider.</p>
<p> </p>
<p> </p>
<p><strong>Billetsalget varetages af Original Talks</strong></p>
<p>Har du spørgsmål til arrangementet eller skal du have ledsager- eller kørestolsplads?</p>
<p> </p>
<p><strong>Kontakt venligst Original Talks på:</strong></p>
<p> </p>
<p><strong>Telefon:</strong></p>
<p>+45 88 77 57 70</p>
<p> </p>
<p>I tidsrummet:</p>
<p>mandag kl. 10.00 - 14.00 (dog lukket 12.00-12.30)</p>
<p>tirsdag: kl. 10.00 - 14.00 (dog lukket 12.00-12.30)</p>
<p>onsdag: kl. 10.00 - 12.00</p>
<p>torsdag: kl. 10.00 - 12.00</p>
<p> </p>
<p><strong>Mail:</strong></p>
<p><a href="mailto:info@originaltalks.dk">info@originaltalks.dk</a></p> Se mere på http://www.tojhuset.dk/
LOCATION:Gothersgade 34 & Øster Voldgade 16 Fredericia
END:VEVENT
END:VCALENDAR


