BEGIN:VCALENDAR
VERSION:2.0
PRODID:-//www.tojhuset.dk
METHOD:REQUEST
BEGIN:VEVENT
UID:6919
DTSTAMP:20260424T002400
DTSTART:20260509T120000
DTEND:20260509T120000
SUMMARY:Frokostjazz
DESCRIPTION:<p><strong>Big Butter spiller traditionel jazz og swingmusik</strong>.</p>
<p> </p>
<p>Orkesteret er kendetegnet ved stor indlevelse og spilleglæde, og repertoriet er en god blanding af traditionel jazz, swing og funky grooves fra New Orleans.</p>
<p> </p>
<p>Musikerne har alle mange års erfaring på den danske og internationale jazzscene, og har spillet i sammenhænge som Bourbon Street Jazz Band, The Dixieland Gipsy Band, Godfellas, The Rascal Swing Band, Hede Hule Hot, Sigurd Barret, Ib Glindemans orkester m.m.</p>
<p> </p>
<p><strong>Big Butter er:</strong></p>
<p>Rasmus Bøgelund: Trompet &amp; vokal</p>
<p>Jens Christian Kwella: Guitar</p>
<p>Peter Friis: Kontrabas</p>
<p>Peter Lund Paulsen: Trommer</p>
<p> </p>
<p> </p>
<p><span>Dørene åbnes kl. 11.00</span><br /><br /><span>Forvent dog at musikere og lydmand laver lydprøver indtil kl. 12.00</span><br /><br /><strong>Bestilling af mad</strong><br /><span>3 stk. frisksmurte håndmadder kan købes/bestilles senest kl. 12.00</span></p> Se mere på http://www.tojhuset.dk/
LOCATION:Gothersgade 34 & Øster Voldgade 16 Fredericia
END:VEVENT
END:VCALENDAR


