BEGIN:VCALENDAR
VERSION:2.0
PRODID:-//www.tojhuset.dk
METHOD:REQUEST
BEGIN:VEVENT
UID:6920
DTSTAMP:20260424T002700
DTSTART:20260523T120000
DTEND:20260523T120000
SUMMARY:Frokostjazz (1)
DESCRIPTION:<p><strong>NEW GUMBO</strong> er en særdeles velspillende trio, med masser af energi og spilleglæde. Trioens repertoire udspringer af stor kærlighed til den rytmiske musiktradition fra New Orleans – med både boogie, blues, jazz og rock´n´roll.</p>
<p> </p>
<p>NEW GUMBO leverer et medrivende og energisk liveshow, gennemførte arrangementer med gode grooves – i en skøn blanding med mere rolige jazz-numre. Sprudlende klaversoloer og sprød og overbevisende vokal er blandt trioens særlige kendetegn. Det bliver en dejlig gumbo af både tempofyldt, sveddryppende boogieklaver, svingende blues og secondline grooves.</p>
<p> </p>
<p>Trioen er bl.a. inspireret af navne som SP Just Frost, Delbert McClinton, Dr. John, Chuck Berry.</p>
<p>NEW GUMBO har spillet i jazzklubber, på spillesteder og ved private arrangementer – Vejle Jazzklub, Fatter Eskil Århus, Jazzklub93, Ærø Jazzfestival, Ringkøbing Fjord Jazzfestival, Esbjerg Festuge.</p>
<p> </p>
<p><strong>NEW GUMBO line-up:</strong></p>
<p>Poul Rasmussen – klaver</p>
<p><span data-olk-copy-source="MessageBody">Jens Ole Thorup – kontrabas og elbas</span></p>
<p>Steen Møller – trommer og vokal</p>
<p> </p>
<p> </p>
<p><span>Dørene åbnes kl. 11.00</span><br /><br /><span>Forvent dog at musikere og lydmand laver lydprøver indtil kl. 12.00</span><br /><br /><strong>Bestilling af mad</strong><br /><span>3 stk. frisksmurte håndmadder kan købes/bestilles senest kl. 12.00</span></p> Se mere på http://www.tojhuset.dk/
LOCATION:Gothersgade 34 & Øster Voldgade 16 Fredericia
END:VEVENT
END:VCALENDAR


