BEGIN:VCALENDAR
VERSION:2.0
PRODID:-//www.tojhuset.dk
METHOD:REQUEST
BEGIN:VEVENT
UID:6992
DTSTAMP:20260424T004000
DTSTART:20260529T150000
DTEND:20260529T150000
SUMMARY:Café Blues Corner - H.P. Lange
DESCRIPTION:<p><strong><span data-olk-copy-source="MessageBody">Café Blues Corner - H.P. Lange</span></strong></p>
<div class="xdj266r x14z9mp xat24cr x1lziwak x1vvkbs">HP lange har været på blues scenen i mere end 30 år. Han har modtaget de priser der er på den danske blues scene, og hans udgivelser har været nomineret til et væld af Danish Music Awards – tre har taget prisen som bedste roots/blues album. I alt har han udgivet 12 cd’er i eget navn. Senest har albummet ”I feel fine” i 2020 modtaget en DMA for årets blues udgivelse.</div>
<div class="xdj266r x14z9mp xat24cr x1lziwak x1vvkbs"></div>
<div class="x14z9mp xat24cr x1lziwak x1vvkbs xtlvy1s">I 2021 udgav HP Lange for første gang et decideret soloalbum ”HP Lange Solo”. Et album som også er blevet godt modtaget af anmeldere.</div>
<div class="x14z9mp xat24cr x1lziwak x1vvkbs xtlvy1s"></div>
<div class="x14z9mp xat24cr x1lziwak x1vvkbs xtlvy1s">HP lange har altid - udover at arbejde med sit band HP lange Big Gumbo - arbejdet som solist og spillet klubber og festivals over hele Skandinavien samt store dele af Europa og USA.</div>
<div class="x14z9mp xat24cr x1lziwak x1vvkbs xtlvy1s"></div>
<div class="x14z9mp xat24cr x1lziwak x1vvkbs xtlvy1s">Med sig på scenen har han sit mix af sange han selv har skrevet og gamle sange fra den amerikanske folkemusiktradition. Og selvfølgelig sine guitarer og sin banjo.</div> Se mere på http://www.tojhuset.dk/
LOCATION:Gothersgade 34 & Øster Voldgade 16 Fredericia
END:VEVENT
END:VCALENDAR


