BEGIN:VCALENDAR
VERSION:2.0
PRODID:-//www.tojhuset.dk
METHOD:REQUEST
BEGIN:VEVENT
UID:7005
DTSTAMP:20260424T022000
DTSTART:20260705T200000
DTEND:20260705T200000
SUMMARY:6. Juli jazz - The Spirit of New Orleans
DESCRIPTION:<p><strong>Traditionel jazz, spirituals, hymner og gospel</strong></p>
<p> </p>
<p>The Spirit of New Orleans blev dannet i 1990 og slog hurtigt igennem på den danske jazzscene. Så i dag fremstår orkesteret som et af de mest kendte og rutinerede orkestre i Danmark, der spiller med en unik dynamisk og swingende stil.</p>
<p> </p>
<p>Repertoiret rummer alle de ingredienser, der skal til for at gøre musikken levende: Traditionel Jazz, Ragtime, blues, Evergreens, egne kompositioner samt Gospel og Spirituals. Det er et orkester, hvis musik når langt ud over scenekanten med en varm publikum kontakt, så tilhørerne får en glad oplevelse.</p>
<p> </p>
<p><strong>Line up:</strong><br /> Preben Nissen, Voc, TB,</p>
<p>Stig Nielsen, SS, AS,</p>
<p>Jens Jakob Nissen, Banjo,</p>
<p>Christian Wolf, Bas</p>
<p>Jørgen Fjelstrup, DR</p>
<p style="margin: 0in;"> </p> Se mere på http://www.tojhuset.dk/
LOCATION:Gothersgade 34 & Øster Voldgade 16 Fredericia
END:VEVENT
END:VCALENDAR


