BEGIN:VCALENDAR
VERSION:2.0
PRODID:-//www.tojhuset.dk
METHOD:REQUEST
BEGIN:VEVENT
UID:7004
DTSTAMP:20260424T002400
DTSTART:20260706T200000
DTEND:20260706T200000
SUMMARY:6. Juli jazz - Neanders
DESCRIPTION:<p>Fredericia Jazzklub slutter 6. juli Jazz 2026 med det mest festlige punktum:</p>
<p><br /> Neanders Jazzband, som spiller jazzmusik med udgangspunkt i New Orleans stilen,</p>
<p>men deres repertoire indeholder også numre fra andre epoker af jazzens historie blandet op med nyere ting fra rock'n roll perioden men alt sammen udført med det særlige Neander-touch.<br /> </p>
<p style="margin: 0in;">Besætningen har i alle årene været forholdsvis stabil, og orkesteret består i dag af følgende:<br /> <br /> <br /> Rasmus Kaufmann: trompet og vokal<br /> Stefan Ringive: trombone<br /> HC Rosendal: klarinet, tenorsaxofon og vokal<br /> Chris Vagn-Hansen: banjo, guitar og vokal<br /> Henrik Bay Møller: kontrabas, elbas og vokal<br /> Henning Amstrup: trommer<br /> </p> Se mere på http://www.tojhuset.dk/
LOCATION:Gothersgade 34 & Øster Voldgade 16 Fredericia
END:VEVENT
END:VCALENDAR


