BEGIN:VCALENDAR
VERSION:2.0
PRODID:-//www.tojhuset.dk
METHOD:REQUEST
BEGIN:VEVENT
UID:6999
DTSTAMP:20260424T004400
DTSTART:20260705T143000
DTEND:20260705T143000
SUMMARY:6. Juli jazz - Kansas City Stumpers
DESCRIPTION:<p><strong>Kansas City Stompers</strong></p>
<p>Musikken har altid været jazz - i det grænseområde mellem swing og traditionel jazz, som også siden har været udgangspunkt for Kansas City Stompers. Ensemblet er dog aldrig gået af vejen for blues, pop, rock, samba og hvad tiden musikalske fænomener nu har gået og heddet.</p>
<p> </p>
<p>Kansas City Stompers er et af europas ældste professionelle jazzband og har udgivet hele 45 album. Bandet har spillet med alt og alle fra Luis Armstrong til Sanne Salomonsen og er kendt for altid at have de bedste musikere og solister med. Spillede første gang i Fredericia i 1955 og har spillet jævnligt med solister som Otto Brandenburg, Gitte Henning, Daimi, Sanne, Lill Babs, Fin Zigler</p>
<p><span> </span></p>
<p>Palle Juul Hansen: Piano</p>
<p>Lasse Lundstrøm: Bas</p>
<p>Roger Berg: Trommer</p>
<p>Mathias Carlson: Saxofon m.m.</p>
<p>Niels Abild: Klarinet, kapelmester</p>
<p>Pia Kloster: Sang</p> Se mere på http://www.tojhuset.dk/
LOCATION:Gothersgade 34 & Øster Voldgade 16 Fredericia
END:VEVENT
END:VCALENDAR


