BEGIN:VCALENDAR
VERSION:2.0
PRODID:-//www.tojhuset.dk
METHOD:REQUEST
BEGIN:VEVENT
UID:7002
DTSTAMP:20260424T004200
DTSTART:20260706T170000
DTEND:20260706T170000
SUMMARY:6. Juli jazz - Godsejernes Jazz og Bluesband
DESCRIPTION:<p>Godsejernes Jazz &amp; Bluesband er kendt for at spille mange af de gamle jazzkendinge med et twist af blues – fra det lettere melankolske til det udadvendt swingende, altid med en gennemført dynamik.</p>
<p> </p>
<p>Når Godsejernes Jazz &amp; Bluesband byder op til fest, er det som at sætte gang i en storswingende og sveddryppende festmaskine, der gør folk glade. Følelsesmæssigt når de hele registret rundt - det hele går op i en højere enhed. </p>
<p> </p>
<p>De spiller med en overbevisning og indlevelse, man sjældent ser. Publikum efterlades ikke i tvivl om, hvor festen finder sted og hvem, der er foregangsmænd.</p>
<p> </p>
<p>Mads Winther: Vokal</p>
<p>Lars Winberg: Bas</p>
<p>Jesper Bole Eskildsen: Saxofon</p>
<p>Ole Møller: Trommer</p>
<p>Poul Shousboe Rasmussen: Klaver</p> Se mere på http://www.tojhuset.dk/
LOCATION:Gothersgade 34 & Øster Voldgade 16 Fredericia
END:VEVENT
END:VCALENDAR


