BEGIN:VCALENDAR
VERSION:2.0
PRODID:-//www.tojhuset.dk
METHOD:REQUEST
BEGIN:VEVENT
UID:7003
DTSTAMP:20260424T003500
DTSTART:20260706T143000
DTEND:20260706T143000
SUMMARY:6. Juli jazz - Creole Cats
DESCRIPTION:<p style="margin: 0in;"><span style="font-family: 'Arial',sans-serif;"><strong>Et forrygende, festligt arrangement er serveret med Creole Catz’ medrivende jazz- og boogierepertoire.</strong><br /> Louis Prima og Louis Jordans swingende rytmer, lidt Just-Frost, kombineret med flerstemmig sang, giver en herlig jazzoplevelse.</span></p>
<p style="margin: 0in;"><span style="font-family: 'Arial',sans-serif;"><br /> Repertoiret er suppleret med numre fra New Orleans bl.a. af Louis Armstrong, samt danske evergreens som f.eks. Sidder på et værtshus, Bel Ami, D’Angleterre, m.fl.</span></p>
<p style="margin: 0in;"><span style="font-family: 'Arial',sans-serif;"><br /> Creole Catz har et  alsidige repertoir med musik til både det unge og det modne publikum.<br /> Orkestrets musikere har god erfaring fra de danske og udenlandske jazzscener, bl.a. fra New Orleans, hvor musikerne i Creole Catz har fundet inspiration til at spille den medrivende glade jazz.</span></p>
<p style="margin: 0in;"> </p>
<p style="margin: 0in;"> </p>
<p><span style="font-family: 'Arial',sans-serif;">Creole Catz' besætning er:</span></p>
<p><span style="font-family: 'Arial',sans-serif;">Stig Fisker, trompet, guitar, banjo og vokal <br /> Kim Jensen, klarinet, tenorsax og vokal <br /> Nicolai Øgendahl Brandt, piano og vokal <br /> Ivan Laugesen, kontrabas <br /> Mads Holck Mogensen, trommer og vokal</span></p> Se mere på http://www.tojhuset.dk/
LOCATION:Gothersgade 34 & Øster Voldgade 16 Fredericia
END:VEVENT
END:VCALENDAR


