BEGIN:VCALENDAR
VERSION:2.0
PRODID:-//www.tojhuset.dk
METHOD:REQUEST
BEGIN:VEVENT
UID:7007
DTSTAMP:20260424T005000
DTSTART:20260706T100000
DTEND:20260706T100000
SUMMARY:6. Juli jazz - Børnejazz med Flensborg/Vendt Duo kl 10.00
DESCRIPTION:<p>Flensborg/Venndt-Duo er en moderne jazz-konstellation, der spiller egen musik med særlig vægt på den billedskabende og fantasifulde komposition.</p>
<p> </p>
<p>Musikken kan nærmest betegnes som en slags "improviseret programmusik", hvor indholdet kan tage musikalsk udgangspunkt i f.eks en mobiltelefon, æblekage med flødeskum, en frostklar dag i Fredericia eller en tv-helt.</p>
<p> </p>
<p>Duoens lyriske, muntre og til tider spraglede lydunivers inddrager publikum på forskellig vis og skabes af en mængde forskellige instrumenter, blandt andet klaver, kontrabas, mundharper, kalimba, blokfløjte, klokkespil, melodikaer og sav.</p> Se mere på http://www.tojhuset.dk/
LOCATION:Gothersgade 34 & Øster Voldgade 16 Fredericia
END:VEVENT
END:VCALENDAR


