BEGIN:VCALENDAR
VERSION:2.0
PRODID:-//www.tojhuset.dk
METHOD:REQUEST
BEGIN:VEVENT
UID:7000
DTSTAMP:20260424T004100
DTSTART:20260705T170000
DTEND:20260705T170000
SUMMARY:6. Juli jazz - Barfoeds Jump Band
DESCRIPTION:<p><strong>Barfoeds Jump Band</strong></p>
<p>Med inspiration fra Louis Jordan, Louis Prima, Ray Charles, Count Basie og Nat King Cole spiller Barfoeds Jump Band ”Let The Good Times Roll”, ”Buona Sera”,” Just A Gigolo”, ”Flip Flop and Fly” og ”Choo Choo to boogie” med en stilsikker shufflefornemmelse og flair for den originale sound med et twist af Barfoeds Jump Band.</p>
<p>Barfoeds Jump Band spiller også jazz og swingklassikere med Louis Armstrong, Ella Fitzgerald, Frank Sinatra, Dean Martin, og danske evergreens med Otto Brandenburg, og John Mogensen i friske Barfoeds Jump Band versioner.</p>
<p> </p>
<p>I foråret 2023 præsenterer Barfoeds Jump Band ti nye indspilninger, hvor jumpblues, jazz og swingmusikkens mange variationer bliver udfoldet, med nye friske versioner af kendte numre, og et par små Barfoeds Jump Band overraskelser.</p>
<p> </p>
<p>Anders Barfoed: Klaver og ko</p>
<p>Jan Sandberg: Trommer og leadvokal</p>
<p>Henrik Møller: Guitar</p>
<p>Anders Vittrup: Trombone</p>
<p>Frank Wommelsdorf: Saxofon og kor</p>
<p>Ole Grønkjær: Trompet</p> Se mere på http://www.tojhuset.dk/
LOCATION:Gothersgade 34 & Øster Voldgade 16 Fredericia
END:VEVENT
END:VCALENDAR


