BEGIN:VCALENDAR
VERSION:2.0
PRODID:-//www.tojhuset.dk
METHOD:REQUEST
BEGIN:VEVENT
UID:7079
DTSTAMP:20260420T133300
DTSTART:20270109T200000
DTEND:20270109T200000
SUMMARY:Amy Winehouse Tribute
DESCRIPTION:<p><strong>AMY WINEHOUSE</strong><br /><strong>Tribute</strong></p>
<p> </p>
<p>Med den karismatiske sanger Samara Bahrami i front, hyldes den legendariske sanger og sangskriver Amy Winehouse.  </p>
<p>Sammen genopliver de nogle fantastiske sange, som sanger og sangskriver Amy Winehouse skabte før sin alt for tidlige død i 2011.</p>
<p> </p>
<p>Amy Winehouse er kendt for sin egen helt særlige sound med en blanding af jazz og soul, som den lød blandt de afroamerikanske girl groups som fks. the Ronettes og The Surpremes i 1960ernes USA. Ofte kryderet med break beats fra den tidlige hiphop.<br /><br />Koncerten består af sange fra de to album<br />'Frank' og gennembruddet 'Back To Back' <br />samt udvalgte sange fra 'Lioness : Hidden Treasures', som udkom efter hendes død.<br /><br />Undervejs supplerer Samara med fortællinger om Winehouses fantastiske og tragiske liv og skæbne.</p> Se mere på http://www.tojhuset.dk/
LOCATION:Gothersgade 34 & Øster Voldgade 16 Fredericia
END:VEVENT
END:VCALENDAR


