BEGIN:VCALENDAR
VERSION:2.0
PRODID:-//www.tojhuset.dk
METHOD:REQUEST
BEGIN:VEVENT
UID:6737
DTSTAMP:20260420T150800
DTSTART:20270115T210000
DTEND:20270115T210000
SUMMARY:Barock - Nytårskoncert
DESCRIPTION:<p><strong>Nytårskoncert med Barock </strong></p>
<p>Så er det ved at være tid til Barocks årlige nytårskoncert, som løber af stablen i Tøjhuset den 17. januar - og bandet glæder sig. <span></span></p>
<p> </p>
<p><span>Det kendte Fredericia-orkester har som altid velsyngende Christina Alessi i front, og det er altid en anledning til at finde danseskoene og festhumøret frem. </span></p>
<p> </p>
<p><span>Traditionen tro er en af Danmarks allerbedste saxofonister, Jens Hack, hyret ind til lejligheden. Jens Hack er blandt andet kendt for at hitte med Moonjam og for at medvirke på albums med store navne som TV2, Sko/Torp og Rocazino. </span>Også den lokale rytmetroldmand, Jan Lauridsen, møder op for at løfte rytmegruppen og gøre musikken endnu mere dansevenlig - og rygterne siger, at han er i topform. </p>
<p> </p>
<p><span>Barock vil som altid diske op med en velspillet omgang hits fra pop- og rock-hylderne, og publikum kan se frem til en aften, hvor der er garanti for både vellyd og højt humør. </span></p>
<p><span>Barock spiller glad musik fra de seneste seks årtier, dog med hovedvægten på kendte 80'er hits.</span></p> Se mere på http://www.tojhuset.dk/
LOCATION:Gothersgade 34 & Øster Voldgade 16 Fredericia
END:VEVENT
END:VCALENDAR


