BEGIN:VCALENDAR
VERSION:2.0
PRODID:-//www.tojhuset.dk
METHOD:REQUEST
BEGIN:VEVENT
UID:7080
DTSTAMP:20260420T133600
DTSTART:20270227T200000
DTEND:20270227T200000
SUMMARY:Johnny Cash - The Legacy Continues
DESCRIPTION:<p><strong>Johnny Cash - The Legacy Continues</strong><br /><br /><span>The Tennessee Four fra Nashville med Johnny Cashs ældste barnebarn, Thomas</span><br /><span>Gabriel</span><br /><br /><span>Johnny Cash (født John Ray Cash 26. februar 1932, død 12. september 2003) var en af</span><br /><span>de mest ikoniske sangere, guitarister og sangskrivere inden for country - og rockmusikken.</span><br /><span>Med sin dybe, genkendelige stemme og det karakteristiske mørke tøj, der gav ham</span><br /><span>tilnavnet The Man in Black, skabte han en musikalsk arv, der stadig lever i dag.</span><br /><br /><span>Hans sange rummer både smerte, social bevidsthed og humor ? fra barske fortællinger</span><br /><span>som San Quentin og Folsom Prison Blues til ørehængere som Ring of Fire og I Walk the</span><br /><span>Line. Hans musik har ramt generationer af lyttere og er stadig lige så aktuel i dag, som den</span><br /><span>var, da han stod på scenen.</span><br /><br /><span>I dag føres Johnny Cashs arv videre af The Tennessee Four, et band, der hylder hans</span><br /><span>livsværk og bringer hans musik til live på ny. Bandet består af:</span><br /><br /><strong>Thomas Gabriel (vokal)</strong><span><span> </span>- Johnny Cashs ældste barnebarn, hvis stemme bærer en</span><br /><span>bemærkelsesværdig lighed med hans morfars. Han har skabt sin egen musikalske</span><br /><span>karriere, men formidler også Cashs klassikere med en autenticitet, der rører</span><br /><span>publikum.</span><br /><br /><strong>Kerry Marx (guitar)</strong><span><span> </span>-  En erfaren musiker, der har optrådt med nogle af verdens</span><br /><span>største kunstnere, herunder Johnny Cash, Bob Dylan og Taylor Swift. Han beskriver</span><br /><span>Cash som den mest sympatiske superstjerne, han har delt scene med.</span><br /><br /><strong>Tim Kristensen (bas) - </strong><span><span> </span>En højt respekteret bassist, der har passet butikken i</span><br /><span>Johnny Horsepower gennem mange år. Han kan sit Johnny Cash materiale som</span><br /><span>ingen anden.</span><br /><br /><strong>Paul Leim (trommer)</strong><span><span> </span>-  En af de mest eftertragtede trommeslagere i branchen, der</span><br /><span>har spillet med alt fra The London Symphony Orchestra til Shania Twain og Kenny</span><br /><span>Rogers.</span><br /><br /><span>The Tennessee Four er ikke blot et tribute-band, men et levende bevis på, hvordan Johnny</span><br /><span>Cashs musik stadig kan røre og begejstre publikum verden over. Med Thomas Gabriels rå</span><br /><span>og sjælfulde vokal samt bandets autentiske lyd, er dette en unik oplevelse for enhver, der</span><br /><span>elsker Johnny Cash og ægte countrymusik.</span></p> Se mere på http://www.tojhuset.dk/
LOCATION:Gothersgade 34 & Øster Voldgade 16 Fredericia
END:VEVENT
END:VCALENDAR


