BEGIN:VCALENDAR
VERSION:2.0
PRODID:-//www.tojhuset.dk
METHOD:REQUEST
BEGIN:VEVENT
UID:7045
DTSTAMP:20260420T133600
DTSTART:20270206T130000
DTEND:20270206T130000
SUMMARY:Fredericia Blues Festival 2027
DESCRIPTION:<p class="x_MsoNormal" data-olk-copy-source="MessageBody">Bluesforeningen Double Trouble glæder sig over at kunne præsentere:</p>
<p class="x_MsoNormal" data-olk-copy-source="MessageBody"> </p>
<p class="x_MsoNormal"><strong>Fredericia Bluesfestival 2027</strong></p>
<p class="x_MsoNormal">Festivalen 2024 og 2025 måtte melde alt udsolgt og mange tak for det kære Blues venner.</p>
<p class="x_MsoNormal"> </p>
<p class="x_MsoNormal">Der bliver til denne festival kun sat 190 billetter til salg da vi vores mål er at alle føler der er plads nok. Der er borde og stole til alle og der vil være mulighed for køb af mad og drikkevarer hele dagen.</p> Se mere på http://www.tojhuset.dk/
LOCATION:Gothersgade 34 & Øster Voldgade 16 Fredericia
END:VEVENT
END:VCALENDAR


