BEGIN:VCALENDAR
VERSION:2.0
PRODID:-//www.tojhuset.dk
METHOD:REQUEST
BEGIN:VEVENT
UID:4068
DTSTAMP:20260419T162100
DTSTART:20200208T120000
DTEND:20200208T120000
SUMMARY:The Spirit of New Orleans
DESCRIPTION:<p><span>The Spirit of New Orleans er i dag ét af de mest kendte og rutinerede orkestre i Danmark, med en unik dynamisk og swingende stil, der rummer alle de ingredienser, der skal til for at gøre musikken levende. Orkestret spiller ragtime, blues, marcher, lovesongs, evergreens, egne kompositioner og gospel og spirituals af høj kvalitet.</span></p>
<p><span>Udover de musikalske kvaliteter, lægger orkesteret stor vægt på, at skabe stemning gennem en god kontakt til publikum med musik og sang langt ud over scenekanten.</span></p>
<p><span> </span></p>
<p><span>Orkesteret blev dannet i 1990 på initiativ af Preben Nissen.</span></p>
<p><span>Baggrunden for dannelsen var ønsket om at spille et repertoire bestående af gospel, spirituals, hymns og traditionel jazz. Musik med dybe rødder i grundlaget for New Orleans-jazzen.</span></p>
<p><span> </span></p>
<p><span>The Spirit at New Orleans har med stor succes optrådt med internationale solister, ligesom de enkelte musikere har været solister i andre bands.</span></p>
<p><span>Orkesteret har været på utallige turneer. Givet flere hundrede koncerter rundt om i danske og udenlandske kirker, koncertsale, jazzklubber, jazzfestivaler, medvirket i radio og TV og udgivet flere bånd og CD-er.</span></p>
<p><span> </span></p>
<p><span>Bandets medlemmer:</span></p>
<p><span> </span></p>
<ul>
<li><span>Preben Nissen: Trombone, piano og vokal</span></li>
<li><span>Carsten Henningsen: Banjo, guitar og vokal</span></li>
<li><span>Stig Nielsen: Saxofon</span></li>
<li><span>Jan Schiöpffe: Trommer</span></li>
<li><span>Kim Holm Nielsen: Bas</span></li>
</ul> Se mere på http://www.tojhuset.dk/
LOCATION:Gothersgade 34 & Øster Voldgade 16 Fredericia
END:VEVENT
END:VCALENDAR


