BEGIN:VCALENDAR
VERSION:2.0
PRODID:-//www.tojhuset.dk
METHOD:REQUEST
BEGIN:VEVENT
UID:7075
DTSTAMP:20260420T133400
DTSTART:20261209T200000
DTEND:20261209T200000
SUMMARY:Theresa Rex
DESCRIPTION:<p style="font-weight: 400;">Den danske sanger og sangskriver Theresa Rex står bag en lang liste af internationale hits og har mere end en millard streams bag sig, bla. er hun stemmen bag et af de største hits der er kommet ud af Danmark, Martin Jensens multi platin vindende single Solo Dance fra 2016.</p>
<p style="font-weight: 400;"> </p>
<p style="font-weight: 400;">Som håbefuld jazz-sanger, blev Theresa Rex opdaget, syngende på et gadehjørne i Aarhus, hvor hun næppe havde drømt om, at komme til at høre og se sig selv på festivaler og klubscener eller i rotation på verdens største radiostationer og TV Shows.</p>
<p style="font-weight: 400;"> </p>
<p style="font-weight: 400;">DJ Martin Jensens globale monsterhit, ’Solo Dance’, viste vejen og siden fulgte multi-platin-hittet, ’What I Like About You’, med engelske Jonas Blue, som ramte hitlisterne i intet mindre end 13 lande. Og så sent som 2023 gik hun og Afrojack #1 på de amerikanske hitlister med hittet, ’Let Me Go’.</p>
<p style="font-weight: 400;"> </p>
<p style="font-weight: 400;">Hun er en sangskriver og artist med stor efterspørgsel, og ud store features og collabs, udgiver Theresa sideløbende sine egne sprudlende scandi pop singler på projektet som også tilsammen har akkumuleret mere end 20 millioner streams.</p>
<p style="font-weight: 400;"> </p> Se mere på http://www.tojhuset.dk/
LOCATION:Gothersgade 34 & Øster Voldgade 16 Fredericia
END:VEVENT
END:VCALENDAR


