BEGIN:VCALENDAR
VERSION:2.0
PRODID:-//www.tojhuset.dk
METHOD:REQUEST
BEGIN:VEVENT
UID:7016
DTSTAMP:20260424T002900
DTSTART:20261228T190000
DTEND:20261228T190000
SUMMARY:Nytårsjazz - Blå Mandag
DESCRIPTION:<p style="text-align: left;" align="center"><strong><span style="font-family: 'Arial',sans-serif;">Traditionen tro inviterer vi til nytårsjazz, hvor der serveres en lækker nytårstallerken til ialt 260 kr.</span></strong><span style="font-family: 'Arial',sans-serif;"></span></p>
<p style="text-align: left;"><span style="font-family: 'Arial',sans-serif;">Tøjhuset vil være pyntet op til årets sidste koncert, hvor vi siger på gensyn til det bedste publikum inden vi starter op med frokostjazz igen i 2027.</span></p>
<p style="text-align: left;"> </p>
<p style="text-align: left;"><span style="font-family: 'Arial',sans-serif;">Jazzorkesteret er altid garant for en god og dejlig stemning, så glæd jer til en god og festlig aften.</span></p>
<p style="text-align: left;"><span style="font-family: 'Arial',sans-serif;"><br /> Blå Mandag Jazzband har levet sammen i rigtig mange år under varemærket: ’Vi ønsker med humør og smittende livsglæde, at formidle den gode gamle “træskojazz” til vores publikum.’</span></p>
<p style="text-align: left;"><span style="font-family: 'Arial',sans-serif;"><br /> Det er vigtigt for dem, at deres optræden fremkalder glæde og smil. Alt dette samtidig med, at de leverer flot New Orleans og Dixielandjazz indpakket i lækre arrangementer og krydret med en af de flotteste sangstemmer, man kan drømme om, når Lisa lægger stemme til et spændende og varieret udvalg af de gode jazzsange.</span></p>
<p style="text-align: left;"> </p>
<p style="text-align: left;"><span style="font-family: 'Arial',sans-serif;">Line Up:<br /> Erik Lund Hansen: Trompet, kunstner<br /> Per Bobak: Trombone<br /> Jørgen Christensen: Klarinet, sax, direktør<br /> Ernst Scheufens: Banjo, becifringsmester<br /> Kåre Sigvertsen: Bas, konferencier<br /> Hugo Scheel: Trommer, pulsholder<br /> Jan “Gasser” Eirup: Klaverbokser<br /> Lisa Bentzen: Vokal – i verdensklasse</span></p> Se mere på http://www.tojhuset.dk/
LOCATION:Gothersgade 34 & Øster Voldgade 16 Fredericia
END:VEVENT
END:VCALENDAR


