BEGIN:VCALENDAR
VERSION:2.0
PRODID:-//www.tojhuset.dk
METHOD:REQUEST
BEGIN:VEVENT
UID:7015
DTSTAMP:20260424T002300
DTSTART:20261212T120000
DTEND:20261212T120000
SUMMARY:Frokostjazz
DESCRIPTION:<p>Pakhusorkesteret er velsagtens det orkester i Danmark, som har spillet flest</p>
<p>jobs på færrest mulige lokaliteter, idet det i årevis har været husorkester på</p>
<p>Det Brunske Pakhus i Fredericia, hvor det har spillet et utal af gange.</p>
<p> </p>
<p>Derved er det blevet et særdeles velsammenspillet og humørfyldt orkester i</p>
<p>den traditionelle stil som kan sætte fut i enhver forsamling</p>
<p>Alle medlemmerne er særdeles erfarne i trad-faget, og kan stilen til fingerspidserne.</p>
<p> </p>
<p>Besætningen er:</p>
<p>Ove Larsen, cornet,</p>
<p>Finn Odderskov, klarinet og sax</p>
<p>Finn Burich, trombone</p>
<p>Jens Bertelsen, banjo,</p>
<p>Mogens Leander, bas,</p>
<p>Uffe Hansen, trommer</p>
<p>Ulrik S. Hansen, klaver</p>
<p> </p>
<p> </p>
<p><span>Dørene åbnes</span><span> kl. 11.00</span><br /><br /><span>Forvent dog at musikere og lydmand laver lydprøver indtil kl. 12.00</span><br /><br /><strong>Bestilling af mad</strong><br /><span>3 stk. frisksmurte håndmadder kan købes/bestilles senest kl. 12.00</span></p> Se mere på http://www.tojhuset.dk/
LOCATION:Gothersgade 34 & Øster Voldgade 16 Fredericia
END:VEVENT
END:VCALENDAR


