BEGIN:VCALENDAR
VERSION:2.0
PRODID:-//www.tojhuset.dk
METHOD:REQUEST
BEGIN:VEVENT
UID:6712
DTSTAMP:20260425T180700
DTSTART:20251219T150000
DTEND:20251219T150000
SUMMARY:FredagsJAM - SYNC
DESCRIPTION:<div><strong>FredagsJAM - SYNC</strong></div>
<div>Kom til fredagsJAM og nyd en fyraftensøl med dejlig live musik i caféen i selskab med SYNC.</div>
<div><br />SYNC er et new upcoming band der spiller selvskrevne popnumre. De spiller en god blanding af stille og rolig sange og mere upbeat numre. Bandet fandt sammen til Musikstarter i efteråret 2024 i Fredericia. Bandet består af unge fra Kolding og Fredericia, som går på Den Kreative Skole og MGK Syd. Bandet mødes nede på Ungdommens hus i Fredericia.<br /><br />Line-up:<br />Sophie Hylgaard - vokal &amp; klaver<br />Tore Duus Nielsen - saxofon &amp; klaver<br />Phillip Hertzber Filemonsen - guitar<br />Noah Jarnit - bas<br />Mikkel Overgaard Andersen - trommer<br /><br />SYNC åbner fredagsJAM med en koncert og herefter er scenen åben for alle med noget på hjerte. Så grib dit instrument og kom og skab nye musikalske forbindelser.<br /><br />På scenen forefindes flygel, trommesæt, guitar- og basforstærker samt mikrofoner.<br /><br />Dørene åbner: 14:00<br />Koncertstart: 15:00<br /><br />Arrangør: FREDERICIA LIVE<br />Støttet af EWII, Middelfart Sparekasse og Musikaftenskolen Lillebælt.</div> Se mere på http://www.tojhuset.dk/
LOCATION:Gothersgade 34 & Øster Voldgade 16 Fredericia
END:VEVENT
END:VCALENDAR


