BEGIN:VCALENDAR
VERSION:2.0
PRODID:-//www.tojhuset.dk
METHOD:REQUEST
BEGIN:VEVENT
UID:6913
DTSTAMP:20260424T002800
DTSTART:20260822T200000
DTEND:20260822T200000
SUMMARY:PADLOCK CHAIN 30 ÅR – PERLEBRYLLUP!
DESCRIPTION:<div class="x_elementToProof" data-ogsc="rgb(0, 0, 0)"><strong>Padlock Chains største fest i 30 år</strong></div>
<div class="x_elementToProof" data-ogsc="rgb(0, 0, 0)"> </div>
<div class="x_elementToProof" data-ogsc="rgb(0, 0, 0)"><strong>BILLETSALGET VARETAGES AF BILLETTO.</strong><br /><br /></div>
<div class="x_elementToProof" data-ogsc="rgb(0, 0, 0)"> I 2026 fejrer de uofficielle jyske mestre i skrammelrock 30 års fødselsdag. Det gør de med deres største fest nogensinde.</div>
<div class="x_elementToProof" data-ogsc="rgb(0, 0, 0)"> </div>
<div class="x_elementToProof" data-ogsc="rgb(0, 0, 0)">Padlock Chains årlige hjemmebanekoncerter på Tøjhuset er berygtede for den store og smittende spilleglæde, de mange gags og løjer samt en stemning uden lige. Og noget med citronmåner.</div>
<div class="x_elementToProof" data-ogsc="rgb(0, 0, 0)">Denne gang flyttes festen til Eksercerhuset. Stadig med en entré på minus fem kroner. Alle får simpelthen en femmer i døren.</div>
<div class="x_elementToProof" data-ogsc="rgb(0, 0, 0)"> </div>
<div class="x_elementToProof" data-ogsc="rgb(0, 0, 0)"><strong>VIP-forfest og perleplader</strong></div>
<div class="x_elementToProof" data-ogsc="rgb(0, 0, 0)">Inden koncerten er der VIP-forfest i Eksercerhusets gård. Her er der levende musik, hurlumhej og hygge – og en megalækker grillret fra Slagterdrengene. Lækkert og mættende - så der er ingen grund til at spise hjemmefra.</div>
<div class="x_elementToProof" data-ogsc="rgb(0, 0, 0)">Flere detaljer om dagen, maden og programmet afsløres og antydes løbende på bandets some-kanaler.</div>
<div class="x_elementToProof" data-ogsc="rgb(0, 0, 0)">En mad- og adgangsbillet til forfesten koster 185 kroner. Gæster ved VIP-forfesten slipper for at stå i gratiskøen.</div>
<div class="x_elementToProof" data-ogsc="rgb(0, 0, 0)"></div>
<div class="x_elementToProof" data-ogsc="rgb(0, 0, 0)">Padlock Chain har opfundet begrebet skrammelrock. De samme fire venner har spillet sammen i 30 år.</div>
<div class="x_elementToProof" data-ogsc="rgb(0, 0, 0)">Når et ægteskab har holdt i 30 år, fejrer man perlebryllup. Derfor tager bandet med glæde imod perleplader, som kan bruges til udsmykning i Eksercerhuset og øvelokalet.</div>
<div class="x_elementToProof" data-ogsc="rgb(0, 0, 0)"> </div>
<div class="x_elementToProof" data-ogsc="rgb(0, 0, 0)">Hvad de spiller? Det er altid svært at forudsige, men det kunne være numre af Joan Jett, Gasolin, DAD, AC/DC, ZZ Top og den slags. Du kan også løbe ind i en skrammelrock-version af Kylie Minogue, Donna Summer eller deslige.</div>
<div class="x_elementToProof" data-ogsc="rgb(0, 0, 0)"> </div>
<div class="x_elementToProof" data-ogsc="rgb(0, 0, 0)">Kom frisk og vær med – de gør kun det her én gang!</div>
<div class="x_elementToProof" data-ogsc="rgb(0, 0, 0)"> </div>
<div class="x_elementToProof" data-ogsc="rgb(0, 0, 0)">Padlock Chain er og har altid været: Peter Friis Autzen (sang og mundharpe), Christian Mørch (trommer), Kenneth Madsen (bas og kor) og Lars Dreymann (guitar og kor).</div>
<p><br /><br /><strong>BILLETTO KAN KONTAKTES PÅ</strong></p>
<p> </p>
<p>Telefon +45 71 99 38 82</p>
<p> </p>
<p>I tidsrummet<br /><br />09.00 - 16.30 mandag - torsdag<br /><br /></p>
<p>og</p>
<p> </p>
<p>09.00 - 15.30 fredag</p>
<p> </p>
<p>Eller ved at udfylde formularen på følgende link<br /><a href="/umbraco/support.billetto.com/da/hc/kb-tickets/new">support.billetto.com/da/hc/kb-tickets/new</a></p>
<p> </p> Se mere på http://www.tojhuset.dk/
LOCATION:Gothersgade 34 & Øster Voldgade 16 Fredericia
END:VEVENT
END:VCALENDAR


