BEGIN:VCALENDAR
VERSION:2.0
PRODID:-//www.tojhuset.dk
METHOD:REQUEST
BEGIN:VEVENT
UID:3198
DTSTAMP:20260423T103200
DTSTART:20180826T200000
DTEND:20180826T200000
SUMMARY:Blood Sweat Drum + Bass
DESCRIPTION:<p>Det helt unikke orkester Blood Sweat Drum + Bass tæller 25 personer, med en besætning bestående af 14 blæsere, vokal samt udvidet rytmegruppe, hvor der er stærk fokus på det elektroniske element.</p>
<p>Blood Sweat Drum + Bass har eksisteret siden 2001 med meget få udskiftninger og har markeret sig stærkt på den Europæiske scene bl.a. gennem langvarige samarbejder med bl.a. Palle Mikkelborg, Jørgen Munkeby og musikere fra det borgerkrigshærgede Syrien.</p>
<p>Ved denne koncert vil orkestret dels give smagsprøver på orkestrets aktuelle udgivelse "Concierto de Scheherazade" med solisterne Turid Guldin (vokal) og Maher Mahmoud (oud), og dels præsentere et splinternyt samarbejde med trommeslageren Stefan Pasborg, som sammen med orkesterleder Jens Christian Chappe Jensen har nyfortolket nogle af  Igor Stravinskijs symfoniske hovedværker for stort eksperimenterende jazzorkester. De nye orkesterarrangementer bygger på Stefan Pasborgs arrangementer til trioen "The Firebirds", samt Stravinskys originale orkesterpartiturer, og som et helt særligt <em>treat</em> vil også saxofonisten Frederik Lundin tage del i denne fejring af Stravinskijs fantastiske musik. </p>
<p> </p>
<p>Ideen til projektet opstod til Gudmanprisfesten 2017, hvor BSD+B og Pasborg lavede et spontant eksperiment med 3 af satserne fra Rite of Spring her skrev Jazz Specials Niels Christensen efterfølgende: </p>
<p> </p>
<p>"Efter pausen blev der stillet om til det grænseoverskridende og totalt fede aarhusianske Blood Sweat Drum + Bass Big Band, Musikken på nodestativerne var Jens Christian "Chappe" Jensens flotte arrangement af tre satser fra Stravinskys <em>Rite of Spring</em>, som Pasborg for nyligt udsendte med trioen The Firebirds efter en lidt svær lydmæssig kaotisk indledning samlede dette værk sig til en orkestral triumf. Gennemgående solist var tenorsaxofonisten Fredrik Lundin, hvis kaskader af vedkommende toner bandt den fantastiske musik sammen. Og gradvist ramte disse sammenbragte børn et musikalsk zenit, som alle så ud til at nyde at tage del i. En enestående bedrift!"</p>
<p><em>Nils Christensen - Jazz Special nov. 2017 (anmeldelse af Gudmanprisfest 1.10.17)</em></p>
<p> </p>
<p><em>Arr.: Jazz i Trekanten</em></p> Se mere på http://www.tojhuset.dk/
LOCATION:Gothersgade 34 & Øster Voldgade 16 Fredericia
END:VEVENT
END:VCALENDAR


