BEGIN:VCALENDAR
VERSION:2.0
PRODID:-//www.tojhuset.dk
METHOD:REQUEST
BEGIN:VEVENT
UID:7129
DTSTAMP:20260420T133300
DTSTART:20270416T210000
DTEND:20270416T210000
SUMMARY:A Tribute To Dire Straits
DESCRIPTION:<p><strong>A Tribute to Dire Straits | Echoes from Zaragoza</strong><br />Den 9. oktober 1992 stod 40.000 tilskuere samlet i Zaragoza, Spanien, til det, der skulle blive <br />Dire Straits’ sidste koncert. Et følelsesladet farvel til et af 80’ernes største rockbands – et <br />band, der på få år bevægede sig fra små pubs i London til de største arenaer i verden. Den <br />afsluttende On Every Street-turné omfattede 229 shows i 19 lande og solgte over 7 millioner <br />billetter – og i Zaragoza blev der sat punktum for en enestående musikalsk æra.</p>
<p><br />Når A Tribute to Dire Straits indtager scener verden over med showet Echoes from Zaragoza, <br />er det med en dybfølt hyldest til det ikoniske øjeblik, hvor Dire Straits takkede af. Her lever <br />musikken, magien og minderne videre – med respekt for den lyd, der gjorde bandet <br />legendarisk.</p>
<p><br />I en tid præget af overproduceret pop og AI-genereret musik, står Dire Straits’ arv som noget <br />ægte: en varm, ren og naturlig lyd, skabt af dygtige musikere med en ro, præcision og <br />musikalitet i absolut topklasse.</p>
<p><br />Glæd jer til Echoes from Zaragoza – en koncertoplevelse, hvor historien gentager sig, og hvor <br />lyden af Dire Straits igen fylder rummet.</p> Se mere på http://www.tojhuset.dk/
LOCATION:Gothersgade 34 & Øster Voldgade 16 Fredericia
END:VEVENT
END:VCALENDAR


