BEGIN:VCALENDAR
VERSION:2.0
PRODID:-//www.tojhuset.dk
METHOD:REQUEST
BEGIN:VEVENT
UID:4941
DTSTAMP:20260424T234700
DTSTART:20220107T150000
DTEND:20220107T150000
SUMMARY:FredagsJAM - The 4 Jazz Riders
DESCRIPTION:<div class="kvgmc6g5 cxmmr5t8 oygrvhab hcukyx3x c1et5uql">Kom til fredagsJAM og nyd en fyraftensøl med dejlig live musik i caféen i selskab med The 4 Jazz Riders.</div>
<div class="o9v6fnle cxmmr5t8 oygrvhab hcukyx3x c1et5uql">Fire gæve jazz-gutter fra Odense og omegn har fundet sammen og dannet THE 4 JAZZ RIDERS. De kender hinanden langt tilbage fra forskellige jazz-sammenhænge og derfor kommer de lynhurtigt på swing-bølgelængde når de er sammen. Det er derfor en stor fornøjelse for publikum at lytte til dette band.</div>
<div class="o9v6fnle cxmmr5t8 oygrvhab hcukyx3x c1et5uql">Deres stil er primært fra swingrepertoiret med afstikkere til den traditionelle jazz og shuffelblues. En bossanova kan også klemme sig ind i ny og næ.</div>
<div class="o9v6fnle cxmmr5t8 oygrvhab hcukyx3x c1et5uql">Line-up:<br />Lars Lavendt - guitar og vokal<br />Jesper Heinrich - bas og vokal<br />Ulf Starup - klaver og vokal<br />Per Andersson - trommer</div>
<div class="o9v6fnle cxmmr5t8 oygrvhab hcukyx3x c1et5uql">The 4 Jazz Riders åbner fredagsJAM med en koncert og herefter er scenen åben for alle med noget på hjerte. Så grib dit instrument og kom og skab nye musikalske forbindelser.</div>
<div class="o9v6fnle cxmmr5t8 oygrvhab hcukyx3x c1et5uql">På scenen forefindes flygel, trommesæt, guitar- og basforstærker samt mikrofoner.</div>
<div class="o9v6fnle cxmmr5t8 oygrvhab hcukyx3x c1et5uql">Dørene åbner: 14:00<br />Koncert start: 15:00</div>
<div class="o9v6fnle cxmmr5t8 oygrvhab hcukyx3x c1et5uql">Arrangør: FREDERICIA LIVE<br />Støttet af Middelfart Sparekasse og Den Kreative Aftenskole<span> </span>
<div class="oajrlxb2 g5ia77u1 qu0x051f esr5mh6w e9989ue4 r7d6kgcz rq0escxv nhd2j8a9 nc684nl6 p7hjln8o kvgmc6g5 cxmmr5t8 oygrvhab hcukyx3x jb3vyjys rz4wbd8a qt6c0cv9 a8nywdso i1ao9s8h esuyzwwr f1sip0of lzcic4wl oo9gr5id gpro0wi8 lrazzd5p"></div>
</div> Se mere på http://www.tojhuset.dk/
LOCATION:Gothersgade 34 & Øster Voldgade 16 Fredericia
END:VEVENT
END:VCALENDAR


