BEGIN:VCALENDAR
VERSION:2.0
PRODID:-//www.tojhuset.dk
METHOD:REQUEST
BEGIN:VEVENT
UID:6950
DTSTAMP:20260423T123100
DTSTART:20260426T150000
DTEND:20260426T150000
SUMMARY:Theesink & Møller
DESCRIPTION:<div class="page">
<div class="section">
<div class="layoutArea">
<div class="column">
<p><span>VERDENSKLASSE BLUES/ROOTS MED GARVEDE MESTRE</span></p>
<p> </p>
<p><span>I 2026 tager Theessink/Møller på danmarks turné. Denne gang bliver det en superkort tur på kun 10 dage, da både Hans Theessink og Knud Møller har rigtig meget i kalenderen.</span></p>
<p> </p>
<p><span>Er man til gedigen, velspillet blues, så er man til ”Theessink &amp; Møller.” Hver for sig er de kapaciteter i genren. Sammen er de en feinschmecker-oplevelse, der giver både gåsehud og smil på læben.</span></p>
<p> </p>
<p><span>Den kompetente blues duo er garant for, at publikum får en intens og medrivende koncert. Repertoiret består af sange fra Hans Theessinks fyldige bagkatalog krydret med numre fra den traditionelle blues root genre, som duoen mestrer så flot.</span></p>
<p> </p>
<p><span>Fremført med Theessinks dybe, varme baryton går det lige i eftertænksomme blueshjerter.</span></p>
<p> </p>
<p><span>Både Hans Theessink og Knud Møller har i deres respektive hjemlande, Østrig og Danmark, høstet diverse priser og anerkendelser. Knud Møller har, blandt andet, opnået prisen som ”Årets danske instrumentalist”. Hans Theessink har – flere gange – vundet den østrigske ”Amadeus Music Award” for bedste udgivelse i kategorien Jazz World Blues.</span></p>
<p> </p>
<p><span>Priser de er glade for og stolte af, men selv sætter de aller mest pris på blues musikken. At spille den og være i den – sammen med publikum. Det er DET, de brænder for, og DET, der brænder igennem, når de er sammen på en scene.</span></p>
<p> </p>
<p><span>Og det er de i perioden </span><span>16. april - 26. april 2026 </span><span>hvor de er på blues turné i Danmark.</span></p>
<p> </p>
</div>
</div>
</div>
</div> Se mere på http://www.tojhuset.dk/
LOCATION:Gothersgade 34 & Øster Voldgade 16 Fredericia
END:VEVENT
END:VCALENDAR


